BEGIN:VCALENDAR
VERSION:2.0
PRODID:-//Heidelbachtal Musikanten - ECPv6.15.17//NONSGML v1.0//EN
CALSCALE:GREGORIAN
METHOD:PUBLISH
X-ORIGINAL-URL:https://www.heidelbachtal-musikanten.de
X-WR-CALDESC:Veranstaltungen für Heidelbachtal Musikanten
REFRESH-INTERVAL;VALUE=DURATION:PT1H
X-Robots-Tag:noindex
X-PUBLISHED-TTL:PT1H
BEGIN:VTIMEZONE
TZID:UTC
BEGIN:STANDARD
TZOFFSETFROM:+0000
TZOFFSETTO:+0000
TZNAME:UTC
DTSTART:20250101T000000
END:STANDARD
END:VTIMEZONE
BEGIN:VEVENT
DTSTART;TZID=UTC:20260501T103000
DTEND;TZID=UTC:20260501T123000
DTSTAMP:20260422T165421
CREATED:20260103T131531Z
LAST-MODIFIED:20260315T122903Z
UID:868-1777631400-1777638600@www.heidelbachtal-musikanten.de
SUMMARY:Maibaumsetzen in Reichenbrand
DESCRIPTION:Wir Spielen für euch am 1. Mai zu Traditionsreichen Maibaumsetzen in Reichenbrand.
URL:https://www.heidelbachtal-musikanten.de/event/maibaumsetzen-in-reichenbrand
LOCATION:Reichenbrand\, Zwickauerstraße 485\, Chemnitz\, Sachsen\, 09117
END:VEVENT
BEGIN:VEVENT
DTSTART;TZID=UTC:20260514T110000
DTEND;TZID=UTC:20260514T170000
DTSTAMP:20260422T165421
CREATED:20260103T131833Z
LAST-MODIFIED:20260103T131833Z
UID:871-1778756400-1778778000@www.heidelbachtal-musikanten.de
SUMMARY:Blasmusik zur Himmelfahrt in Wünschendorf
DESCRIPTION:
URL:https://www.heidelbachtal-musikanten.de/event/blasmusik-zur-himmelfahrt-in-wuenschendorf
LOCATION:Wünschendorf
END:VEVENT
BEGIN:VEVENT
DTSTART;TZID=UTC:20260524T140000
DTEND;TZID=UTC:20260524T163000
DTSTAMP:20260422T165421
CREATED:20260103T132358Z
LAST-MODIFIED:20260103T132627Z
UID:875-1779631200-1779640200@www.heidelbachtal-musikanten.de
SUMMARY:De Kesselstub - Schindelbach
DESCRIPTION:Am Pfingstsonntag spielen wir um 14 Uhr Open Air in De Kesselstub in Schindelbach.
URL:https://www.heidelbachtal-musikanten.de/event/de-kesselstub-schindelbach-2
LOCATION:De Kesselstub Schindelbach\, Schindelbach 38\, Großrückerswalde\, Sachsen\, 09518
END:VEVENT
END:VCALENDAR