BEGIN:VCALENDAR
VERSION:2.0
PRODID:-//Heidelbachtal Musikanten - ECPv6.15.17//NONSGML v1.0//EN
CALSCALE:GREGORIAN
METHOD:PUBLISH
X-WR-CALNAME:Heidelbachtal Musikanten
X-ORIGINAL-URL:https://www.heidelbachtal-musikanten.de
X-WR-CALDESC:Veranstaltungen für Heidelbachtal Musikanten
REFRESH-INTERVAL;VALUE=DURATION:PT1H
X-Robots-Tag:noindex
X-PUBLISHED-TTL:PT1H
BEGIN:VTIMEZONE
TZID:UTC
BEGIN:STANDARD
TZOFFSETFROM:+0000
TZOFFSETTO:+0000
TZNAME:UTC
DTSTART:20190101T000000
END:STANDARD
END:VTIMEZONE
BEGIN:VEVENT
DTSTART;TZID=UTC:20260329T143000
DTEND;TZID=UTC:20260329T170000
DTSTAMP:20260422T145447
CREATED:20260103T131020Z
LAST-MODIFIED:20260314T080639Z
UID:864-1774794600-1774803600@www.heidelbachtal-musikanten.de
SUMMARY:Frühlingskonzert - 50 Jahre Heidelbachtal Musikanten
DESCRIPTION:Wir laden ganz herzlich ein zu unserem Frühlingskonzert nach Drebach wo wir den Auftagkt zu unserem 50-jährigen bestehen mir euch zusammen feiern wollen. \nScreenshot
URL:https://www.heidelbachtal-musikanten.de/event/fruehlingskonzert-50-jahre-heidelbachtal-musikanten
LOCATION:Bürgerhaus Drebach\, Am Zechengrund 4\, Drebach\, Sachsen\, 09430\, Deutschland
END:VEVENT
BEGIN:VEVENT
DTSTART;TZID=UTC:20250920T150000
DTEND;TZID=UTC:20250920T170000
DTSTAMP:20260422T145447
CREATED:20250104T131836Z
LAST-MODIFIED:20250104T131836Z
UID:803-1758380400-1758387600@www.heidelbachtal-musikanten.de
SUMMARY:Wurzelbach Fest Großolbersdorf
DESCRIPTION:
URL:https://www.heidelbachtal-musikanten.de/event/wurzelbach-fest-grossolbersdorf
LOCATION:Großolbersdorf\, Großolbersdorf\, Sachsen\, 09432\, Deutschland
END:VEVENT
BEGIN:VEVENT
DTSTART;TZID=UTC:20250810T150000
DTEND;TZID=UTC:20250810T170000
DTSTAMP:20260422T145447
CREATED:20250104T131120Z
LAST-MODIFIED:20250104T131120Z
UID:801-1754838000-1754845200@www.heidelbachtal-musikanten.de
SUMMARY:Kurpark Warmbad Wolkenstein
DESCRIPTION:
URL:https://www.heidelbachtal-musikanten.de/event/kurpark-warmbad-wolkenstein-3
LOCATION:Warmbad\, Am Kurpark 3\, Wolkenstein / OT Warmbad\, Sachsen\, 09429\, Deutschland
END:VEVENT
BEGIN:VEVENT
DTSTART;TZID=UTC:20250629T160000
DTEND;TZID=UTC:20250629T190000
DTSTAMP:20260422T145447
CREATED:20250610T144401Z
LAST-MODIFIED:20250610T144401Z
UID:856-1751212800-1751223600@www.heidelbachtal-musikanten.de
SUMMARY:675 Jahre Börnichen
DESCRIPTION:Wir spielen für euch am 29.06 im Festzelt zur 675 Jahrfeier in Börnichen.
URL:https://www.heidelbachtal-musikanten.de/event/675-jahre-boernichen
LOCATION:Börnichen\, Börnichen\, Sachsen\, 09437\, Germany
END:VEVENT
BEGIN:VEVENT
DTSTART;TZID=UTC:20250621T130000
DTEND;TZID=UTC:20250621T230000
DTSTAMP:20260422T145447
CREATED:20250216T151253Z
LAST-MODIFIED:20250527T093617Z
UID:816-1750510800-1750546800@www.heidelbachtal-musikanten.de
SUMMARY:Greifenstein Blasmusik Open Air
DESCRIPTION:Am 21. Juni findet zum ersten mal zur Eröffnung der Greifenstein-Festspiel Saison das Greifenstein Blasmusik Open Air statt. Ein ganzer Tag mit zahlreichen Blasmusikvereinen aus der Region erwartet euch. Mit dabei sind natürlich wir Heidelbachtal Musikanten.
URL:https://www.heidelbachtal-musikanten.de/event/greifenstein-blasmusik-open-air
LOCATION:Ehrenfriedersdorf\, Sachsen\, 09427
END:VEVENT
BEGIN:VEVENT
DTSTART;TZID=UTC:20250614T200000
DTEND;TZID=UTC:20250614T210000
DTSTAMP:20260422T145447
CREATED:20250315T191720Z
LAST-MODIFIED:20250315T191720Z
UID:839-1749931200-1749934800@www.heidelbachtal-musikanten.de
SUMMARY:Dreiklang Thum
DESCRIPTION:Natürlich sind wir auch dieses Jahr zu Gast auf dem Dreiklang in Thum. Diesmal jedoch mit einer etwas ungewohnten Zeit und mit einem Programm der etwas anderen Art. Was sich dahinter verbirgt? Last euch Überraschen.
URL:https://www.heidelbachtal-musikanten.de/event/dreiklang-thum
LOCATION:Dreiklang – Das Thumer Musik- & Vereinsfest\, Neumarkt 4\, Thum\, Sachsen\, 09419\, Deutschland
END:VEVENT
BEGIN:VEVENT
DTSTART;TZID=UTC:20250529T180000
DTEND;TZID=UTC:20250529T200000
DTSTAMP:20260422T145447
CREATED:20250216T150621Z
LAST-MODIFIED:20250216T150621Z
UID:809-1748541600-1748548800@www.heidelbachtal-musikanten.de
SUMMARY:Teilnahme am deutschen Musikfest
DESCRIPTION:Wir sind Teil des deutschen Musikfestes in Ulm & Neu-Ulm.
URL:https://www.heidelbachtal-musikanten.de/event/teilnahme-am-deutschen-musikfest
LOCATION:Ulm & Neu-Ulm\, Baden-Württenberg & Bayern
END:VEVENT
BEGIN:VEVENT
DTSTART;TZID=UTC:20250405T150000
DTEND;TZID=UTC:20250405T180000
DTSTAMP:20260422T145447
CREATED:20250104T130600Z
LAST-MODIFIED:20250324T192722Z
UID:797-1743865200-1743876000@www.heidelbachtal-musikanten.de
SUMMARY:Frühlingskonzert
DESCRIPTION:Am 5. April laden wir ganz herzlich zu unserem Frühlingskonzert in der neuen Turnhalle in Drebach ein.
URL:https://www.heidelbachtal-musikanten.de/event/fruehlingskonzert
LOCATION:Turnhalle Drebach\, Straße der Jugend 11\, Drebach\, Sachsen\, 09430
END:VEVENT
BEGIN:VEVENT
DTSTART;TZID=UTC:20240907T140000
DTEND;TZID=UTC:20240907T160000
DTSTAMP:20260422T145447
CREATED:20240408T180040Z
LAST-MODIFIED:20240408T180040Z
UID:786-1725717600-1725724800@www.heidelbachtal-musikanten.de
SUMMARY:Konzert zum Färberstraßenfest
DESCRIPTION:Am 7. September spielen wir für euch zum Färberstraßenfest in Thum.
URL:https://www.heidelbachtal-musikanten.de/event/konzert-zum-faerberstrassenfest
LOCATION:Färberstraße Thum\, Färberstraße\, Thum\, Sachsen\, 09419\, Deutschland
END:VEVENT
BEGIN:VEVENT
DTSTART;TZID=UTC:20240825T150000
DTEND;TZID=UTC:20240825T170000
DTSTAMP:20260422T145447
CREATED:20231201T081114Z
LAST-MODIFIED:20231201T081114Z
UID:752-1724598000-1724605200@www.heidelbachtal-musikanten.de
SUMMARY:Konzert im Kurpark Wiesenbad
DESCRIPTION:
URL:https://www.heidelbachtal-musikanten.de/event/konzert-im-kurpark-wiesenbad
LOCATION:Kurpark Wiesenbad\, Am Kurpark\, Thermalbad Wiesenbad\, 09488\, Deutschland
END:VEVENT
BEGIN:VEVENT
DTSTART;TZID=UTC:20240621T180000
DTEND;TZID=UTC:20240621T200000
DTSTAMP:20260422T145447
CREATED:20231201T080732Z
LAST-MODIFIED:20231201T080732Z
UID:750-1718992800-1719000000@www.heidelbachtal-musikanten.de
SUMMARY:Zwönitz - Live-Musik zur FÊTE DE LA MUSIQUE
DESCRIPTION:Wir spielen am 21. Juni im Rahmen zur FÊTE DE LA MUSIQUE in der Brauerei Zwönitz.
URL:https://www.heidelbachtal-musikanten.de/event/zwoenitz-live-musik-zur-fete-de-la-musique
LOCATION:Zwönitz Brauerei\, Grünhainer Straße 15\, Zwönitz\, Sachsen\, 08297\, Deutschland
END:VEVENT
BEGIN:VEVENT
DTSTART;TZID=UTC:20240616T000000
DTEND;TZID=UTC:20240616T000000
DTSTAMP:20260422T145447
CREATED:20231201T075508Z
LAST-MODIFIED:20231201T075508Z
UID:742-1718496000-1718496000@www.heidelbachtal-musikanten.de
SUMMARY:Konzert zum Feuerwehr Jubiläum Ehrenfriedersdorf
DESCRIPTION:Die Freiwillige Feuerwehr Ehrenfriedersdorf wird vom Freitag den 14. bis Sonntag den 16. Juni 2024 ihr 150-jähriges Bestehen feiern. Für eine musikalische Untermalung werden wir Heidelbachtal Musikanten am 16. Juni sorgen. Eine genaue Uhrzeit\, wann wir spielen\, wird noch bekannt gegeben.
URL:https://www.heidelbachtal-musikanten.de/event/konzert-zum-feuerwehr-jubilaeum-ehrenfriedersdorf
LOCATION:Ehrenfriedersdorf\, Sachsen\, 09427
END:VEVENT
BEGIN:VEVENT
DTSTART;TZID=UTC:20240609T150000
DTEND;TZID=UTC:20240609T170000
DTSTAMP:20260422T145447
CREATED:20231201T073944Z
LAST-MODIFIED:20231201T073944Z
UID:739-1717945200-1717952400@www.heidelbachtal-musikanten.de
SUMMARY:Kurpark Warmbad Wolkenstein
DESCRIPTION:
URL:https://www.heidelbachtal-musikanten.de/event/kurpark-warmbad-wolkenstein-2
LOCATION:Warmbad\, Am Kurpark 3\, Wolkenstein / OT Warmbad\, Sachsen\, 09429\, Deutschland
END:VEVENT
BEGIN:VEVENT
DTSTART;TZID=UTC:20240526T150000
DTEND;TZID=UTC:20240526T154500
DTSTAMP:20260422T145447
CREATED:20240130T170853Z
LAST-MODIFIED:20240408T175328Z
UID:765-1716735600-1716738300@www.heidelbachtal-musikanten.de
SUMMARY:Dreiklang – Das Thumer Musik- & Vereinsfest
DESCRIPTION:Am 25 und 26 Mail findet in Thum das traditionelle Musik- & Vereinsfest Dreiklang statt\, wo wir am Sonntag den 26 im Festzelt für euch aufspielen.
URL:https://www.heidelbachtal-musikanten.de/event/dreiklang-das-thumer-musik-vereinsfest
LOCATION:Dreiklang – Das Thumer Musik- & Vereinsfest\, Neumarkt 4\, Thum\, Sachsen\, 09419\, Deutschland
END:VEVENT
BEGIN:VEVENT
DTSTART;TZID=UTC:20240520T133000
DTEND;TZID=UTC:20240520T160000
DTSTAMP:20260422T145447
CREATED:20240130T172141Z
LAST-MODIFIED:20240130T172141Z
UID:769-1716211800-1716220800@www.heidelbachtal-musikanten.de
SUMMARY:De Kesselstub - Schindelbach
DESCRIPTION:Am Pfingstmontag spielen wir um 13:30 Open Air in De Kesselstub in Schindelbach.
URL:https://www.heidelbachtal-musikanten.de/event/de-kesselstub-schindelbach
LOCATION:De Kesselstub Schindelbach\, Schindelbach 38\, Großrückerswalde\, Sachsen\, 09518
END:VEVENT
BEGIN:VEVENT
DTSTART;TZID=UTC:20240509T133000
DTEND;TZID=UTC:20240509T153000
DTSTAMP:20260422T145447
CREATED:20240506T173255Z
LAST-MODIFIED:20240506T173255Z
UID:793-1715261400-1715268600@www.heidelbachtal-musikanten.de
SUMMARY:Blasmusik zur Himmelfahrt am Geyrischen Teich
DESCRIPTION:Zu Himmelfahrt geben wir ein kleines Open Air Konzert beim Campingstübel am Geyrischen Teich.
URL:https://www.heidelbachtal-musikanten.de/event/blasmusik-zur-himmelfahrt-am-geyrischen-teich
LOCATION:Geyrischen Teich\, Geyer\, Sachsen\, 09468\, Deutschland
END:VEVENT
BEGIN:VEVENT
DTSTART;TZID=UTC:20230501T143000
DTEND;TZID=UTC:20230501T170000
DTSTAMP:20260422T145447
CREATED:20230419T145259Z
LAST-MODIFIED:20230419T145316Z
UID:733-1682951400-1682960400@www.heidelbachtal-musikanten.de
SUMMARY:Drebacher Gemeindefest
DESCRIPTION:Zusammen mit der Chemnitzer Nischlmusi\, speieln wir am 01.05 zum Abschluss des Drebacher Gemeindefestes\, auf dem Burgparkplatz Scharfenstein.
URL:https://www.heidelbachtal-musikanten.de/event/drebacher-gemeindefest
LOCATION:Scharfenstein\, Burgparkplatz\, Scharfenstein\, Sachsen\, 09435
END:VEVENT
BEGIN:VEVENT
DTSTART;TZID=UTC:20221106T150000
DTEND;TZID=UTC:20221106T170000
DTSTAMP:20260422T145447
CREATED:20221006T163239Z
LAST-MODIFIED:20221006T163239Z
UID:719-1667746800-1667754000@www.heidelbachtal-musikanten.de
SUMMARY:Herbstfest mit den Heidelbachtal Musikanten
DESCRIPTION:
URL:https://www.heidelbachtal-musikanten.de/event/herbstfest-mit-den-heidelbachtal-musikanten
LOCATION:Bürgerhaus Drebach\, Am Zechengrund 4\, Drebach\, Sachsen\, 09430\, Deutschland
END:VEVENT
BEGIN:VEVENT
DTSTART;TZID=UTC:20220830T190000
DTEND;TZID=UTC:20220830T220000
DTSTAMP:20260422T145447
CREATED:20220411T122630Z
LAST-MODIFIED:20220411T122630Z
UID:707-1661886000-1661896800@www.heidelbachtal-musikanten.de
SUMMARY:Konzert zum Stadtjubiläum Lengefeld
DESCRIPTION:
URL:https://www.heidelbachtal-musikanten.de/event/konzert-zum-stadtjubilaeum-lengefeld
LOCATION:Lengefeld\, Pockau-Lengefeld\, 09514
END:VEVENT
BEGIN:VEVENT
DTSTART;TZID=UTC:20220828T150000
DTEND;TZID=UTC:20220828T163000
DTSTAMP:20260422T145447
CREATED:20220411T120642Z
LAST-MODIFIED:20220411T120642Z
UID:703-1661698800-1661704200@www.heidelbachtal-musikanten.de
SUMMARY:Kurparkkonzert
DESCRIPTION:
URL:https://www.heidelbachtal-musikanten.de/event/kurparkkonzert
LOCATION:Kurpark Wiesenbad\, Am Kurpark\, Thermalbad Wiesenbad\, 09488\, Deutschland
END:VEVENT
BEGIN:VEVENT
DTSTART;TZID=UTC:20220717T110000
DTEND;TZID=UTC:20220717T130000
DTSTAMP:20260422T145447
CREATED:20220411T120311Z
LAST-MODIFIED:20220411T120311Z
UID:699-1658055600-1658062800@www.heidelbachtal-musikanten.de
SUMMARY:Frühschoppen 500 Jahre Scheibenberg
DESCRIPTION:
URL:https://www.heidelbachtal-musikanten.de/event/fruehschoppen-500-jahre-scheibenberg
LOCATION:Scheibenberg\, Markt\, Scheibenberg\, Sachsen\, 09481\, Deutschland
END:VEVENT
BEGIN:VEVENT
DTSTART;TZID=UTC:20220703T150000
DTEND;TZID=UTC:20220703T170000
DTSTAMP:20260422T145447
CREATED:20220411T114541Z
LAST-MODIFIED:20220411T114541Z
UID:695-1656860400-1656867600@www.heidelbachtal-musikanten.de
SUMMARY:Blasmusiknachmittag zum Spritzenfest Schönbrunn
DESCRIPTION:
URL:https://www.heidelbachtal-musikanten.de/event/blasmusiknachmittag-zum-spritzenfest-schoenbrunn
LOCATION:Schönbrunn\, Schönbrunn\, 09429\, Deutschland
END:VEVENT
BEGIN:VEVENT
DTSTART;TZID=UTC:20220619T150000
DTEND;TZID=UTC:20220619T170000
DTSTAMP:20260422T145447
CREATED:20220411T114121Z
LAST-MODIFIED:20220411T114121Z
UID:693-1655650800-1655658000@www.heidelbachtal-musikanten.de
SUMMARY:Kurkonzert
DESCRIPTION:
URL:https://www.heidelbachtal-musikanten.de/event/kurkonzert
LOCATION:Warmbad\, Am Kurpark 3\, Wolkenstein / OT Warmbad\, Sachsen\, 09429\, Deutschland
END:VEVENT
BEGIN:VEVENT
DTSTART;TZID=UTC:20220612T154500
DTEND;TZID=UTC:20220612T164500
DTSTAMP:20260422T145447
CREATED:20220411T113630Z
LAST-MODIFIED:20220411T113630Z
UID:691-1655048700-1655052300@www.heidelbachtal-musikanten.de
SUMMARY:Orchestertreff
DESCRIPTION:
URL:https://www.heidelbachtal-musikanten.de/event/orchestertreff
LOCATION:Dreiklang – Das Thumer Musik- & Vereinsfest\, Neumarkt 4\, Thum\, Sachsen\, 09419\, Deutschland
END:VEVENT
BEGIN:VEVENT
DTSTART;TZID=UTC:20220424T143000
DTEND;TZID=UTC:20220424T170000
DTSTAMP:20260422T145447
CREATED:20220215T094228Z
LAST-MODIFIED:20220413T072657Z
UID:678-1650810600-1650819600@www.heidelbachtal-musikanten.de
SUMMARY:Konzert "Da sind wir wieder"
DESCRIPTION:Wir freuen uns nach mehr als zwei Jahren die „große“ Bühne endlich wieder zurück erobern zu können.\nBei unserem Programm „Da sind wir wieder“ könnt ihr neue blasmusikalische Spitzentitel erleben\, aber auch bei Altbekanntem in Erinnerungen schwelgen.\nFakt ist: wir können es kaum erwarten zu musizieren und euch endlich wieder begrüßen zu dürfen.\nLasst euch diesen „Restart“ nicht entgehen!
URL:https://www.heidelbachtal-musikanten.de/event/da-sind-wir-wieder
LOCATION:Volkshaus Thum\, Neumarkt 4\, Thum\, Sachsen\, 09419\, Deutschland
END:VEVENT
BEGIN:VEVENT
DTSTART;TZID=UTC:20210627T150000
DTEND;TZID=UTC:20210627T170000
DTSTAMP:20260422T145447
CREATED:20210620T205541Z
LAST-MODIFIED:20210620T205613Z
UID:673-1624806000-1624813200@www.heidelbachtal-musikanten.de
SUMMARY:Kurpark Warmbad Wolkenstein
DESCRIPTION:
URL:https://www.heidelbachtal-musikanten.de/event/kurpark-warmbad-wolkenstein
LOCATION:Warmbad\, Am Kurpark 3\, Wolkenstein / OT Warmbad\, Sachsen\, 09429\, Deutschland
END:VEVENT
BEGIN:VEVENT
DTSTART;TZID=UTC:20200906T143000
DTEND;TZID=UTC:20200906T160000
DTSTAMP:20260422T145447
CREATED:20200903T155846Z
LAST-MODIFIED:20200903T155846Z
UID:582-1599402600-1599408000@www.heidelbachtal-musikanten.de
SUMMARY:Open Air Konzert DKK Parkplatz Scharfenstein
DESCRIPTION:die Gäste sitzen in Ihren Autos oder auf mitgebrachten Stühlen unter Beachtung der aktuellen Corona Regeln.
URL:https://www.heidelbachtal-musikanten.de/event/open-air-konzert-dkk-parkplatz-scharfenstein
LOCATION:DKK Parkplatz Scharfenstein\, Scharfenstein\, Deutschland
END:VEVENT
BEGIN:VEVENT
DTSTART;TZID=UTC:20200712T150000
DTEND;TZID=UTC:20200712T163000
DTSTAMP:20260422T145447
CREATED:20200104T175807Z
LAST-MODIFIED:20200104T220241Z
UID:564-1594566000-1594571400@www.heidelbachtal-musikanten.de
SUMMARY:Kurpark Warmbad Wolkenstein
DESCRIPTION:
URL:https://www.heidelbachtal-musikanten.de/event/warmbad-wolkenstein
LOCATION:Warmbad\, Am Kurpark 3\, Wolkenstein / OT Warmbad\, Sachsen\, 09429\, Deutschland
END:VEVENT
BEGIN:VEVENT
DTSTART;TZID=UTC:20200705T080000
DTEND;TZID=UTC:20200705T170000
DTSTAMP:20260422T145447
CREATED:20200104T180502Z
LAST-MODIFIED:20200104T180502Z
UID:556-1593936000-1593968400@www.heidelbachtal-musikanten.de
SUMMARY:Bergfest Ehrenfriedersdorf
DESCRIPTION:Leider steht zu dem Auftritt aktuelle noch keine Uhrzeit fest-
URL:https://www.heidelbachtal-musikanten.de/event/bergfest-ehrenfriedersdorf
LOCATION:Ehrenfriedersdorf\, Sachsen\, 09427
END:VEVENT
BEGIN:VEVENT
DTSTART;TZID=UTC:20200607T080000
DTEND;TZID=UTC:20200607T170000
DTSTAMP:20260422T145447
CREATED:20200104T175218Z
LAST-MODIFIED:20200104T175437Z
UID:553-1591516800-1591549200@www.heidelbachtal-musikanten.de
SUMMARY:30. Thumer Orchestertreff
DESCRIPTION:Am Sonntag spielen wir für im Festzellt auf. Leider steht zu dem Auftritt aktuelle noch keine Uhrzeit fest-
URL:https://www.heidelbachtal-musikanten.de/event/30-thumer-orchestertreff
LOCATION:Sachsen
END:VEVENT
END:VCALENDAR